BEGIN:VCALENDAR
VERSION:2.0
PRODID:-//Tukios.com/
BEGIN:VEVENT
UID:b8f9cf50-a0f3-47f5-8478-c675c6d13efc@independence.pottsfuneralhome.com
DTSTAMP:20260421T001847Z
DTSTART:20260423T000000Z
DTEND:20260423T020000Z
SUMMARY:Visitation
DESCRIPTION:
URL:https://independence.pottsfuneralhome.com/obituaries/david-eytcheson
LOCATION:Potts Chapel 122 S Pennsylvania Ave  Independence KS 67301
GEO:37.2224484;-95.7063335
END:VEVENT
END:VCALENDAR